BEGIN:VCALENDAR
VERSION:2.0
PRODID:-//AudioTheme 2.3.3
BEGIN:VEVENT
UID:urn:uuid:43374126-8cb6-42d8-b9b7-86f132ba3fde
URL:https://www.momentbaroque.ch/concerts/zusammenarbeit-cantus-regio/
DTSTART;TZID=GMT:20220401T173000
SUMMARY:[Zusammenarbeit] - Cantus Regio
LOCATION:Église française de Berne\, Église française de Berne\, Zeughausgasse 8\, 3011 Bern\, Église française de Berne\, BE\, Suisse\, 3011
END:VEVENT
END:VCALENDAR
