BEGIN:VCALENDAR
VERSION:2.0
PRODID:-//AudioTheme 2.3.3
BEGIN:VEVENT
UID:urn:uuid:250cf03c-f277-4cd2-8691-d5f34364e061
URL:https://www.momentbaroque.ch/concerts/water-music-et-concert-pour-une-nuit-de-noel/
DTSTART;TZID=GMT:20161127T160000
SUMMARY:Water Music et Concert pour une nuit de Noël
LOCATION:Eglise des jésuites\, Porrentruy\, Eglise des jésuites\, Porrentruy\, Eglise des jésuites\, Porrentruy\, JU\, Suisse\, 2900
END:VEVENT
END:VCALENDAR
