BEGIN:VCALENDAR
VERSION:2.0
PRODID:-//AudioTheme 2.3.3
BEGIN:VEVENT
UID:urn:uuid:c088f4d3-8e69-451a-8b16-aec987ea7624
URL:https://www.momentbaroque.ch/concerts/suonare-e-taccare-ju/
DTSTART;TZID=GMT:20191025T180000
SUMMARY:Suonare e toccare
LOCATION:Eglise St-Germain de Porrentruy\, Eglise St-Germain\, Porrentruy JU\, Eglise St-Germain\, Porrentruy\, JU\, Suisse\, 2900
END:VEVENT
END:VCALENDAR
