BEGIN:VCALENDAR
VERSION:2.0
PRODID:-//AudioTheme 2.3.3
BEGIN:VEVENT
UID:urn:uuid:3511df37-99c3-47df-986b-4a482267d279
URL:https://www.momentbaroque.ch/concerts/requiem-de-mozart/
DTSTART;TZID=GMT:20181109T183000
SUMMARY:Requiem de Mozart
LOCATION:Église française de Berne\, Église française de Berne\, Zeughausgasse 8\, 3011 Bern\, Église française de Berne\, BE\, Suisse\, 3011
END:VEVENT
END:VCALENDAR
