BEGIN:VCALENDAR
VERSION:2.0
PRODID:-//AudioTheme 2.3.3
BEGIN:VEVENT
UID:urn:uuid:958bf7f8-c33a-4c21-8b79-3b3c3c5910aa
URL:https://www.momentbaroque.ch/concerts/mozart-requiem-2/
DTSTART;TZID=GMT:20181111T153000
SUMMARY:Mozart Requiem
LOCATION:Kirche Rapperswil BE\, Kirche Rapperswil\, Hauptstrasse 46\, 3255 Rapperswil\, Kirche Rapperswil\, BE\, Suisse\, 3255
END:VEVENT
END:VCALENDAR
